BEGIN:VCALENDAR
VERSION:2.0
PRODID:-//Newcastle Jet Ski Centre - ECPv4.9.13//NONSGML v1.0//EN
CALSCALE:GREGORIAN
METHOD:PUBLISH
X-WR-CALNAME:Newcastle Jet Ski Centre
X-ORIGINAL-URL:https://newcastlejetskicentre.com.au
X-WR-CALDESC:Events for Newcastle Jet Ski Centre
BEGIN:VTIMEZONE
TZID:Australia/Sydney
BEGIN:STANDARD
TZOFFSETFROM:+1100
TZOFFSETTO:+1000
TZNAME:AEST
DTSTART:20200404T160000
END:STANDARD
BEGIN:DAYLIGHT
TZOFFSETFROM:+1000
TZOFFSETTO:+1100
TZNAME:AEDT
DTSTART:20201003T160000
END:DAYLIGHT
END:VTIMEZONE
BEGIN:VEVENT
DTSTART;TZID=Australia/Sydney:20200202T100000
DTEND;TZID=Australia/Sydney:20200202T130000
DTSTAMP:20200301T111633
CREATED:20200121T041348Z
LAST-MODIFIED:20200121T043825Z
UID:1122-1580637600-1580648400@newcastlejetskicentre.com.au
SUMMARY:STX-160 Demo Day @ Eleebana boat ramp
DESCRIPTION:Come down and test ride the new STX-160\nBBQ\, snacks and drinks will be provided for those who register. Booking essential via phoning the shop on 02 4956 9110 \nEleebana Boat Ramp \n
URL:https://newcastlejetskicentre.com.au/event/stx-160-demo-day-eleebana-boat-ramp/
CATEGORIES:DEMO DAYS
ATTACH;FMTTYPE=image/jpeg:https://newcastlejetskicentre.com.au/wp-content/uploads/2020/01/stx160-action.jpg
END:VEVENT
END:VCALENDAR